BEGIN:VCALENDAR
VERSION:2.0
PRODID:-//Endorso//Watch Free Events//EN
CALSCALE:GREGORIAN
METHOD:PUBLISH
BEGIN:VEVENT
UID:nba-playoffs-r1-g6-los-angeles-clippers-vs-dallas-mavericks-2026-05-02@endorso.com
DTSTAMP:20260421T044306Z
DTSTART:20260503T020000Z
DTEND:20260503T040000Z
SUMMARY:Los Angeles Clippers vs Dallas Mavericks — NBA Playoffs R1 G6 (Watch Free with VPN)
DESCRIPTION:The Los Angeles Clippers host the Dallas Mavericks in Game 6 of the first round of the NBA Playoffs. The Clippers will look to close out the series at home. Fans will be searching for live streams to catch all the action.\\n\\nFree on ERT (Greece).\\n\\nFull guide: https://endorso.com/vpn/watch/nba-playoffs-r1-g6-los-angeles-clippers-vs-dallas-mavericks-2026-05-02
URL:https://endorso.com/vpn/watch/nba-playoffs-r1-g6-los-angeles-clippers-vs-dallas-mavericks-2026-05-02
LOCATION:https://endorso.com/vpn/watch/nba-playoffs-r1-g6-los-angeles-clippers-vs-dallas-mavericks-2026-05-02
END:VEVENT
END:VCALENDAR