BEGIN:VCALENDAR
VERSION:2.0
PRODID:-//Endorso//Watch Free Events//EN
CALSCALE:GREGORIAN
METHOD:PUBLISH
BEGIN:VEVENT
UID:nba-playoffs-r1-g5-denver-nuggets-vs-phoenix-suns-2026-04-29@endorso.com
DTSTAMP:20260424T182700Z
DTSTART:20260429T020000Z
DTEND:20260429T040000Z
SUMMARY:Denver Nuggets vs Phoenix Suns — NBA Playoffs R1 G5 (Watch Free with VPN)
DESCRIPTION:Nikola Jokic leads the Nuggets against Kevin Durant and the Suns in a critical Game 5. The winner of this game historically has an 80% chance of winning the series.\\n\\nFree on Globoplay (Brazil).\\n\\nFull guide: https://endorso.com/vpn/watch/nba-playoffs-r1-g5-denver-nuggets-vs-phoenix-suns-2026-04-29
URL:https://endorso.com/vpn/watch/nba-playoffs-r1-g5-denver-nuggets-vs-phoenix-suns-2026-04-29
LOCATION:https://endorso.com/vpn/watch/nba-playoffs-r1-g5-denver-nuggets-vs-phoenix-suns-2026-04-29
END:VEVENT
END:VCALENDAR