BEGIN:VCALENDAR
VERSION:2.0
PRODID:-//Endorso//Watch Free Events//EN
CALSCALE:GREGORIAN
METHOD:PUBLISH
BEGIN:VEVENT
UID:nba-playoffs-r1-g5-denver-nuggets-vs-la-lakers-2026-04-29@endorso.com
DTSTAMP:20260425T142121Z
DTSTART:20260429T020000Z
DTEND:20260429T040000Z
SUMMARY:Denver Nuggets vs LA Lakers — NBA Playoffs R1 G5 (Watch Free with VPN)
DESCRIPTION:The defending champions host the Lakers in a critical Game 5. With the series potentially on the line\, Jokic and James face off in a high-altitude showdown.\\n\\nFree on TRT Spor (Turkey).\\n\\nFull guide: https://endorso.com/vpn/watch/nba-playoffs-r1-g5-denver-nuggets-vs-la-lakers-2026-04-29
URL:https://endorso.com/vpn/watch/nba-playoffs-r1-g5-denver-nuggets-vs-la-lakers-2026-04-29
LOCATION:https://endorso.com/vpn/watch/nba-playoffs-r1-g5-denver-nuggets-vs-la-lakers-2026-04-29
END:VEVENT
END:VCALENDAR