BEGIN:VCALENDAR
VERSION:2.0
PRODID:-//Endorso//Watch Free Events//EN
CALSCALE:GREGORIAN
METHOD:PUBLISH
BEGIN:VEVENT
UID:nba-playoffs-r1-g4-toronto-raptors-vs-milwaukee-bucks-2026-04-30@endorso.com
DTSTAMP:20260419T172217Z
DTSTART:20260430T233000Z
DTEND:20260501T013000Z
SUMMARY:Toronto Raptors vs Milwaukee Bucks — NBA Playoffs R1 G4 (Watch Free with VPN)
DESCRIPTION:The Toronto Raptors host the Milwaukee Bucks in Game 4 of their NBA Playoffs first-round series. The Raptors need to win to avoid falling behind 3-1 in the series.\\n\\nFree on Pluto TV (USA).\\n\\nFull guide: https://endorso.com/vpn/watch/nba-playoffs-r1-g4-toronto-raptors-vs-milwaukee-bucks-2026-04-30
URL:https://endorso.com/vpn/watch/nba-playoffs-r1-g4-toronto-raptors-vs-milwaukee-bucks-2026-04-30
LOCATION:https://endorso.com/vpn/watch/nba-playoffs-r1-g4-toronto-raptors-vs-milwaukee-bucks-2026-04-30
END:VEVENT
END:VCALENDAR