BEGIN:VCALENDAR
VERSION:2.0
PRODID:-//Endorso//Watch Free Events//EN
CALSCALE:GREGORIAN
METHOD:PUBLISH
BEGIN:VEVENT
UID:nba-playoffs-r1-g4-milwaukee-bucks-vs-philadelphia-76ers-2026-04-28@endorso.com
DTSTAMP:20260421T050535Z
DTSTART:20260429T000000Z
DTEND:20260429T020000Z
SUMMARY:Milwaukee Bucks vs Philadelphia 76ers — NBA Playoffs R1 G4 (Watch Free with VPN)
DESCRIPTION:The Milwaukee Bucks host the Philadelphia 76ers in Game 4 of the first round of the NBA Playoffs. This is a crucial game in the series\, with both teams looking to gain an advantage. Fans will be searching for live streams to catch all the action.\\n\\nFree on ERT (Greece).\\n\\nFull guide: https://endorso.com/vpn/watch/nba-playoffs-r1-g4-milwaukee-bucks-vs-philadelphia-76ers-2026-04-28
URL:https://endorso.com/vpn/watch/nba-playoffs-r1-g4-milwaukee-bucks-vs-philadelphia-76ers-2026-04-28
LOCATION:https://endorso.com/vpn/watch/nba-playoffs-r1-g4-milwaukee-bucks-vs-philadelphia-76ers-2026-04-28
END:VEVENT
END:VCALENDAR