BEGIN:VCALENDAR
VERSION:2.0
PRODID:-//Endorso//Watch Free Events//EN
CALSCALE:GREGORIAN
METHOD:PUBLISH
BEGIN:VEVENT
UID:nba-playoffs-r1-g4-miami-heat-vs-boston-celtics-2026-04-27@endorso.com
DTSTAMP:20260419T141028Z
DTSTART:20260427T233000Z
DTEND:20260428T013000Z
SUMMARY:Miami Heat vs Boston Celtics — NBA Playoffs R1 G4 (Watch Free with VPN)
DESCRIPTION:The Miami Heat host the Boston Celtics in Game 4 of their first-round playoff series. This game could be pivotal in determining the series outcome.\\n\\nFree on Pluto TV (USA).\\n\\nFull guide: https://endorso.com/vpn/watch/nba-playoffs-r1-g4-miami-heat-vs-boston-celtics-2026-04-27
URL:https://endorso.com/vpn/watch/nba-playoffs-r1-g4-miami-heat-vs-boston-celtics-2026-04-27
LOCATION:https://endorso.com/vpn/watch/nba-playoffs-r1-g4-miami-heat-vs-boston-celtics-2026-04-27
END:VEVENT
END:VCALENDAR