BEGIN:VCALENDAR
VERSION:2.0
PRODID:-//Endorso//Watch Free Events//EN
CALSCALE:GREGORIAN
METHOD:PUBLISH
BEGIN:VEVENT
UID:nba-playoffs-r1-g4-los-angeles-lakers-vs-denver-nuggets-2026-04-26@endorso.com
DTSTAMP:20260422T104838Z
DTSTART:20260426T203000Z
DTEND:20260426T223000Z
SUMMARY:LA Lakers vs Denver Nuggets — NBA Playoffs R1 G4 (Watch Free with VPN)
DESCRIPTION:LeBron James and the Lakers face the defending champions in a critical Game 4. The Nuggets look to maintain their dominance in this Western Conference showdown.\\n\\nFree on Band TV (Brazil).\\n\\nFull guide: https://endorso.com/vpn/watch/nba-playoffs-r1-g4-los-angeles-lakers-vs-denver-nuggets-2026-04-26
URL:https://endorso.com/vpn/watch/nba-playoffs-r1-g4-los-angeles-lakers-vs-denver-nuggets-2026-04-26
LOCATION:https://endorso.com/vpn/watch/nba-playoffs-r1-g4-los-angeles-lakers-vs-denver-nuggets-2026-04-26
END:VEVENT
END:VCALENDAR