BEGIN:VCALENDAR
VERSION:2.0
PRODID:-//Endorso//Watch Free Events//EN
CALSCALE:GREGORIAN
METHOD:PUBLISH
BEGIN:VEVENT
UID:nba-playoffs-r1-g4-boston-celtics-vs-miami-heat-2026-04-27@endorso.com
DTSTAMP:20260424T182603Z
DTSTART:20260427T233000Z
DTEND:20260428T013000Z
SUMMARY:Boston Celtics vs Miami Heat — NBA Playoffs R1 G4 (Watch Free with VPN)
DESCRIPTION:A pivotal Game 4 in the Eastern Conference first round as the Celtics look to dominate the paint against a resilient Heat defense. This matchup is a repeat of recent classic playoff battles.\\n\\nFree on TRT Spor (Turkey).\\n\\nFull guide: https://endorso.com/vpn/watch/nba-playoffs-r1-g4-boston-celtics-vs-miami-heat-2026-04-27
URL:https://endorso.com/vpn/watch/nba-playoffs-r1-g4-boston-celtics-vs-miami-heat-2026-04-27
LOCATION:https://endorso.com/vpn/watch/nba-playoffs-r1-g4-boston-celtics-vs-miami-heat-2026-04-27
END:VEVENT
END:VCALENDAR