BEGIN:VCALENDAR
VERSION:2.0
PRODID:-//Endorso//Watch Free Events//EN
CALSCALE:GREGORIAN
METHOD:PUBLISH
BEGIN:VEVENT
UID:nba-playoffs-r1-g4-atlanta-hawks-vs-boston-celtics-2026-04-29@endorso.com
DTSTAMP:20260419T172031Z
DTSTART:20260429T230000Z
DTEND:20260430T010000Z
SUMMARY:Atlanta Hawks vs Boston Celtics — NBA Playoffs R1 G4 (Watch Free with VPN)
DESCRIPTION:The Atlanta Hawks host the Boston Celtics in Game 4 of the NBA Playoffs first round. The Hawks look to even the series before heading back to Boston.\\n\\nFree on Pluto TV (USA).\\n\\nFull guide: https://endorso.com/vpn/watch/nba-playoffs-r1-g4-atlanta-hawks-vs-boston-celtics-2026-04-29
URL:https://endorso.com/vpn/watch/nba-playoffs-r1-g4-atlanta-hawks-vs-boston-celtics-2026-04-29
LOCATION:https://endorso.com/vpn/watch/nba-playoffs-r1-g4-atlanta-hawks-vs-boston-celtics-2026-04-29
END:VEVENT
END:VCALENDAR