BEGIN:VCALENDAR
VERSION:2.0
PRODID:-//Endorso//Watch Free Events//EN
CALSCALE:GREGORIAN
METHOD:PUBLISH
BEGIN:VEVENT
UID:nba-playoffs-r1-g3-toronto-raptors-vs-milwaukee-bucks-2026-04-27@endorso.com
DTSTAMP:20260419T172224Z
DTSTART:20260427T233000Z
DTEND:20260428T013000Z
SUMMARY:Toronto Raptors vs Milwaukee Bucks — NBA Playoffs R1 G3 (Watch Free with VPN)
DESCRIPTION:The Toronto Raptors host the Milwaukee Bucks in Game 3 of their NBA Playoffs first-round series. The Raptors need to win at home to stay competitive in the series.\\n\\nFree on Pluto TV (USA).\\n\\nFull guide: https://endorso.com/vpn/watch/nba-playoffs-r1-g3-toronto-raptors-vs-milwaukee-bucks-2026-04-27
URL:https://endorso.com/vpn/watch/nba-playoffs-r1-g3-toronto-raptors-vs-milwaukee-bucks-2026-04-27
LOCATION:https://endorso.com/vpn/watch/nba-playoffs-r1-g3-toronto-raptors-vs-milwaukee-bucks-2026-04-27
END:VEVENT
END:VCALENDAR