BEGIN:VCALENDAR
VERSION:2.0
PRODID:-//Endorso//Watch Free Events//EN
CALSCALE:GREGORIAN
METHOD:PUBLISH
BEGIN:VEVENT
UID:nba-playoffs-r1-g3-golden-state-warriors-vs-los-angeles-lakers-2026-04-26@endorso.com
DTSTAMP:20260421T045820Z
DTSTART:20260427T023000Z
DTEND:20260427T043000Z
SUMMARY:Golden State Warriors vs Los Angeles Lakers — NBA Playoffs R1 G3 (Watch Free with VPN)
DESCRIPTION:The Golden State Warriors host the Los Angeles Lakers in Game 3 of the first round of the NBA Playoffs. This is a pivotal game in the series\, with both teams looking to take a lead. Fans will be searching for live streams to catch all the action.\\n\\nFree on ERT (Greece).\\n\\nFull guide: https://endorso.com/vpn/watch/nba-playoffs-r1-g3-golden-state-warriors-vs-los-angeles-lakers-2026-04-26
URL:https://endorso.com/vpn/watch/nba-playoffs-r1-g3-golden-state-warriors-vs-los-angeles-lakers-2026-04-26
LOCATION:https://endorso.com/vpn/watch/nba-playoffs-r1-g3-golden-state-warriors-vs-los-angeles-lakers-2026-04-26
END:VEVENT
END:VCALENDAR