BEGIN:VCALENDAR
VERSION:2.0
PRODID:-//Endorso//Watch Free Events//EN
CALSCALE:GREGORIAN
METHOD:PUBLISH
BEGIN:VEVENT
UID:nba-playoffs-r1-g3-boston-celtics-vs-miami-heat-2026-04-23@endorso.com
DTSTAMP:20260422T105935Z
DTSTART:20260423T233000Z
DTEND:20260424T013000Z
SUMMARY:Boston Celtics vs Miami Heat — NBA Playoffs R1 G3 (Watch Free with VPN)
DESCRIPTION:The Eastern Conference rivalry intensifies as the series shifts to Miami for Game 3. Both teams look to gain a pivotal advantage in this high-stakes postseason matchup.\\n\\nFree on TRT Spor (Turkey).\\n\\nFull guide: https://endorso.com/vpn/watch/nba-playoffs-r1-g3-boston-celtics-vs-miami-heat-2026-04-23
URL:https://endorso.com/vpn/watch/nba-playoffs-r1-g3-boston-celtics-vs-miami-heat-2026-04-23
LOCATION:https://endorso.com/vpn/watch/nba-playoffs-r1-g3-boston-celtics-vs-miami-heat-2026-04-23
END:VEVENT
END:VCALENDAR