BEGIN:VCALENDAR
VERSION:2.0
PRODID:-//Endorso//Watch Free Events//EN
CALSCALE:GREGORIAN
METHOD:PUBLISH
BEGIN:VEVENT
UID:nba-playoffs-r1-g3-atlanta-hawks-vs-boston-celtics-2026-04-26@endorso.com
DTSTAMP:20260419T172048Z
DTSTART:20260426T230000Z
DTEND:20260427T010000Z
SUMMARY:Atlanta Hawks vs Boston Celtics — NBA Playoffs R1 G3 (Watch Free with VPN)
DESCRIPTION:The Atlanta Hawks host the Boston Celtics in Game 3 of the NBA Playoffs first round. The Hawks look to defend their home court and get back into the series.\\n\\nFree on Pluto TV (USA).\\n\\nFull guide: https://endorso.com/vpn/watch/nba-playoffs-r1-g3-atlanta-hawks-vs-boston-celtics-2026-04-26
URL:https://endorso.com/vpn/watch/nba-playoffs-r1-g3-atlanta-hawks-vs-boston-celtics-2026-04-26
LOCATION:https://endorso.com/vpn/watch/nba-playoffs-r1-g3-atlanta-hawks-vs-boston-celtics-2026-04-26
END:VEVENT
END:VCALENDAR