BEGIN:VCALENDAR
VERSION:2.0
PRODID:-//Endorso//Watch Free Events//EN
CALSCALE:GREGORIAN
METHOD:PUBLISH
BEGIN:VEVENT
UID:nba-playoffs-r1-g1-boston-celtics-vs-miami-heat-2026-04-21@endorso.com
DTSTAMP:20260421T045638Z
DTSTART:20260421T230000Z
DTEND:20260422T010000Z
SUMMARY:Boston Celtics vs Miami Heat — NBA Playoffs R1 G1 (Watch Free with VPN)
DESCRIPTION:The Boston Celtics host the Miami Heat in Game 1 of the first round of the NBA Playoffs. Expect a high-intensity matchup as both teams battle for an early series lead. Fans will be searching for live streams to catch all the action.\\n\\nFree on ERT (Greece).\\n\\nFull guide: https://endorso.com/vpn/watch/nba-playoffs-r1-g1-boston-celtics-vs-miami-heat-2026-04-21
URL:https://endorso.com/vpn/watch/nba-playoffs-r1-g1-boston-celtics-vs-miami-heat-2026-04-21
LOCATION:https://endorso.com/vpn/watch/nba-playoffs-r1-g1-boston-celtics-vs-miami-heat-2026-04-21
END:VEVENT
END:VCALENDAR