BEGIN:VCALENDAR
VERSION:2.0
PRODID:-//Endorso//Watch Free Events//EN
CALSCALE:GREGORIAN
METHOD:PUBLISH
BEGIN:VEVENT
UID:nba-playoffs-oklahoma-city-thunder-vs-los-angeles-lakers-game-5-2026-05-06@endorso.com
DTSTAMP:20260425T204622Z
DTSTART:20260506T020000Z
DTEND:20260506T040000Z
SUMMARY:OKC Thunder vs LA Lakers — NBA Playoffs R1 G5 (Watch Free with VPN)
DESCRIPTION:The young Thunder host LeBron James and the Lakers in a critical Game 5. The atmosphere in OKC will be electric as the series reaches its climax.\\n\\nFree on NBA on TNT (via Sling Free Trial) (USA).\\n\\nFull guide: https://endorso.com/vpn/watch/nba-playoffs-oklahoma-city-thunder-vs-los-angeles-lakers-game-5-2026-05-06
URL:https://endorso.com/vpn/watch/nba-playoffs-oklahoma-city-thunder-vs-los-angeles-lakers-game-5-2026-05-06
LOCATION:https://endorso.com/vpn/watch/nba-playoffs-oklahoma-city-thunder-vs-los-angeles-lakers-game-5-2026-05-06
END:VEVENT
END:VCALENDAR