BEGIN:VCALENDAR
VERSION:2.0
PRODID:-//Endorso//Watch Free Events//EN
CALSCALE:GREGORIAN
METHOD:PUBLISH
BEGIN:VEVENT
UID:nba-playoffs-okc-thunder-vs-sacramento-kings-game-4-2026-04-28@endorso.com
DTSTAMP:20260421T194129Z
DTSTART:20260428T010000Z
DTEND:20260428T030000Z
SUMMARY:OKC Thunder vs Sacramento Kings — NBA Playoffs R1 G4 (Watch Free with VPN)
DESCRIPTION:The young Thunder squad faces a hostile environment in Sacramento. This Game 4 is crucial for both teams' hopes of advancing to the second round.\\n\\nFree on ERT Sports (Greece).\\n\\nFull guide: https://endorso.com/vpn/watch/nba-playoffs-okc-thunder-vs-sacramento-kings-game-4-2026-04-28
URL:https://endorso.com/vpn/watch/nba-playoffs-okc-thunder-vs-sacramento-kings-game-4-2026-04-28
LOCATION:https://endorso.com/vpn/watch/nba-playoffs-okc-thunder-vs-sacramento-kings-game-4-2026-04-28
END:VEVENT
END:VCALENDAR