BEGIN:VCALENDAR
VERSION:2.0
PRODID:-//Endorso//Watch Free Events//EN
CALSCALE:GREGORIAN
METHOD:PUBLISH
BEGIN:VEVENT
UID:nba-playoffs-okc-thunder-vs-dallas-mavericks-game-5-2026-05-01@endorso.com
DTSTAMP:20260422T045442Z
DTSTART:20260501T013000Z
DTEND:20260501T033000Z
SUMMARY:OKC Thunder vs Dallas Mavericks — NBA Playoffs R1 G5 (Watch Free with VPN)
DESCRIPTION:Luka Doncic leads the Mavericks into Oklahoma City for a pivotal Game 5. With the series likely tied or close\, this game could determine who moves to the second round.\\n\\nFree on Tubi (Sports Highlights) (USA).\\n\\nFull guide: https://endorso.com/vpn/watch/nba-playoffs-okc-thunder-vs-dallas-mavericks-game-5-2026-05-01
URL:https://endorso.com/vpn/watch/nba-playoffs-okc-thunder-vs-dallas-mavericks-game-5-2026-05-01
LOCATION:https://endorso.com/vpn/watch/nba-playoffs-okc-thunder-vs-dallas-mavericks-game-5-2026-05-01
END:VEVENT
END:VCALENDAR