BEGIN:VCALENDAR
VERSION:2.0
PRODID:-//Endorso//Watch Free Events//EN
CALSCALE:GREGORIAN
METHOD:PUBLISH
BEGIN:VEVENT
UID:nba-playoffs-okc-thunder-vs-dallas-mavericks-2026-05-05@endorso.com
DTSTAMP:20260425T040621Z
DTSTART:20260505T013000Z
DTEND:20260505T033000Z
SUMMARY:OKC Thunder vs Dallas Mavericks — NBA Playoffs R2 G1 (Watch Free with VPN)
DESCRIPTION:The second round begins with the young Thunder hosting Luka Doncic and the Mavericks. A clash of styles and superstar talent.\\n\\nFree on ERT (Greece).\\n\\nFull guide: https://endorso.com/vpn/watch/nba-playoffs-okc-thunder-vs-dallas-mavericks-2026-05-05
URL:https://endorso.com/vpn/watch/nba-playoffs-okc-thunder-vs-dallas-mavericks-2026-05-05
LOCATION:https://endorso.com/vpn/watch/nba-playoffs-okc-thunder-vs-dallas-mavericks-2026-05-05
END:VEVENT
END:VCALENDAR