BEGIN:VCALENDAR
VERSION:2.0
PRODID:-//Endorso//Watch Free Events//EN
CALSCALE:GREGORIAN
METHOD:PUBLISH
BEGIN:VEVENT
UID:nba-playoffs-milwaukee-bucks-vs-indiana-pacers-game-5-2026-04-30@endorso.com
DTSTAMP:20260421T193227Z
DTSTART:20260430T233000Z
DTEND:20260501T013000Z
SUMMARY:Milwaukee Bucks vs Indiana Pacers — NBA Playoffs R1 G5 (Watch Free with VPN)
DESCRIPTION:Giannis Antetokounmpo and the Bucks return home for a critical Game 5. The Pacers' high-octane offense tests the Milwaukee defense in this pivotal matchup.\\n\\nFree on TRT Spor (Turkey).\\n\\nFull guide: https://endorso.com/vpn/watch/nba-playoffs-milwaukee-bucks-vs-indiana-pacers-game-5-2026-04-30
URL:https://endorso.com/vpn/watch/nba-playoffs-milwaukee-bucks-vs-indiana-pacers-game-5-2026-04-30
LOCATION:https://endorso.com/vpn/watch/nba-playoffs-milwaukee-bucks-vs-indiana-pacers-game-5-2026-04-30
END:VEVENT
END:VCALENDAR