BEGIN:VCALENDAR
VERSION:2.0
PRODID:-//Endorso//Watch Free Events//EN
CALSCALE:GREGORIAN
METHOD:PUBLISH
BEGIN:VEVENT
UID:nba-playoffs-los-angeles-lakers-vs-minnesota-timberwolves-2026-04-27@endorso.com
DTSTAMP:20260425T111420Z
DTSTART:20260427T020000Z
DTEND:20260427T040000Z
SUMMARY:LA Lakers vs Minnesota Timberwolves — NBA Playoffs R1 G4 (Watch Free with VPN)
DESCRIPTION:LeBron James and the Lakers face a must-win Game 4 against the rising Timberwolves. A high-stakes battle for survival in the West.\\n\\nFree on Azteca Deportes (Mexico).\\n\\nFull guide: https://endorso.com/vpn/watch/nba-playoffs-los-angeles-lakers-vs-minnesota-timberwolves-2026-04-27
URL:https://endorso.com/vpn/watch/nba-playoffs-los-angeles-lakers-vs-minnesota-timberwolves-2026-04-27
LOCATION:https://endorso.com/vpn/watch/nba-playoffs-los-angeles-lakers-vs-minnesota-timberwolves-2026-04-27
END:VEVENT
END:VCALENDAR