BEGIN:VCALENDAR
VERSION:2.0
PRODID:-//Endorso//Watch Free Events//EN
CALSCALE:GREGORIAN
METHOD:PUBLISH
BEGIN:VEVENT
UID:nba-playoffs-denver-nuggets-vs-phoenix-suns-game-4-2026-05-03@endorso.com
DTSTAMP:20260425T210529Z
DTSTART:20260503T013000Z
DTEND:20260503T033000Z
SUMMARY:Denver Nuggets vs Phoenix Suns — NBA Playoffs R1 G4 (Watch Free with VPN)
DESCRIPTION:The defending champions face a tough road test in Phoenix. Nikola Jokic and Kevin Durant headline this Western Conference showdown.\\n\\nFree on NBA on ABC (via local affiliate) (USA).\\n\\nFull guide: https://endorso.com/vpn/watch/nba-playoffs-denver-nuggets-vs-phoenix-suns-game-4-2026-05-03
URL:https://endorso.com/vpn/watch/nba-playoffs-denver-nuggets-vs-phoenix-suns-game-4-2026-05-03
LOCATION:https://endorso.com/vpn/watch/nba-playoffs-denver-nuggets-vs-phoenix-suns-game-4-2026-05-03
END:VEVENT
END:VCALENDAR