BEGIN:VCALENDAR
VERSION:2.0
PRODID:-//Endorso//Watch Free Events//EN
CALSCALE:GREGORIAN
METHOD:PUBLISH
BEGIN:VEVENT
UID:nba-playoffs-denver-nuggets-vs-okc-thunder-2026-04-26@endorso.com
DTSTAMP:20260425T105201Z
DTSTART:20260426T203000Z
DTEND:20260426T223000Z
SUMMARY:Denver Nuggets vs OKC Thunder — NBA Playoffs R1 G4 (Watch Free with VPN)
DESCRIPTION:Nikola Jokic leads the Nuggets against the young and fast Thunder. This Game 4 could be a series-defining moment in the Western Conference.\\n\\nFree on Globoplay (Brazil).\\n\\nFull guide: https://endorso.com/vpn/watch/nba-playoffs-denver-nuggets-vs-okc-thunder-2026-04-26
URL:https://endorso.com/vpn/watch/nba-playoffs-denver-nuggets-vs-okc-thunder-2026-04-26
LOCATION:https://endorso.com/vpn/watch/nba-playoffs-denver-nuggets-vs-okc-thunder-2026-04-26
END:VEVENT
END:VCALENDAR