BEGIN:VCALENDAR
VERSION:2.0
PRODID:-//Endorso//Watch Free Events//EN
CALSCALE:GREGORIAN
METHOD:PUBLISH
BEGIN:VEVENT
UID:nba-playoffs-denver-nuggets-vs-la-lakers-game-4-2026-04-27@endorso.com
DTSTAMP:20260422T045448Z
DTSTART:20260427T020000Z
DTEND:20260427T040000Z
SUMMARY:Denver Nuggets vs LA Lakers — NBA Playoffs R1 G4 (Watch Free with VPN)
DESCRIPTION:LeBron James and the Lakers host Nikola Jokic and the Nuggets in a critical Game 4. The atmosphere at Crypto.com Arena will be electric as the Lakers fight for survival.\\n\\nFree on Band TV (Brazil).\\n\\nFull guide: https://endorso.com/vpn/watch/nba-playoffs-denver-nuggets-vs-la-lakers-game-4-2026-04-27
URL:https://endorso.com/vpn/watch/nba-playoffs-denver-nuggets-vs-la-lakers-game-4-2026-04-27
LOCATION:https://endorso.com/vpn/watch/nba-playoffs-denver-nuggets-vs-la-lakers-game-4-2026-04-27
END:VEVENT
END:VCALENDAR