BEGIN:VCALENDAR
VERSION:2.0
PRODID:-//Endorso//Watch Free Events//EN
CALSCALE:GREGORIAN
METHOD:PUBLISH
BEGIN:VEVENT
UID:nba-playoffs-denver-nuggets-vs-la-lakers-game-3-2026-04-25@endorso.com
DTSTAMP:20260421T193114Z
DTSTART:20260425T023000Z
DTEND:20260425T043000Z
SUMMARY:Denver Nuggets vs LA Lakers — NBA Playoffs R1 G3 (Watch Free with VPN)
DESCRIPTION:The series shifts to Los Angeles as the Lakers attempt to claw back against the defending champions. A pivotal Game 3 that could define the series.\\n\\nFree on NBA App (Free Preview) (USA).\\n\\nFull guide: https://endorso.com/vpn/watch/nba-playoffs-denver-nuggets-vs-la-lakers-game-3-2026-04-25
URL:https://endorso.com/vpn/watch/nba-playoffs-denver-nuggets-vs-la-lakers-game-3-2026-04-25
LOCATION:https://endorso.com/vpn/watch/nba-playoffs-denver-nuggets-vs-la-lakers-game-3-2026-04-25
END:VEVENT
END:VCALENDAR