BEGIN:VCALENDAR
VERSION:2.0
PRODID:-//Endorso//Watch Free Events//EN
CALSCALE:GREGORIAN
METHOD:PUBLISH
BEGIN:VEVENT
UID:nba-playoffs-denver-nuggets-vs-la-lakers-2026-04-27@endorso.com
DTSTAMP:20260425T040722Z
DTSTART:20260427T023000Z
DTEND:20260427T043000Z
SUMMARY:Denver Nuggets vs LA Lakers — NBA Playoffs R1 G4 (Watch Free with VPN)
DESCRIPTION:LeBron James and the Lakers attempt to defend their home court against Nikola Jokic and the defending champion Nuggets in a high-stakes Game 4.\\n\\nFree on Globoplay (Brazil).\\n\\nFull guide: https://endorso.com/vpn/watch/nba-playoffs-denver-nuggets-vs-la-lakers-2026-04-27
URL:https://endorso.com/vpn/watch/nba-playoffs-denver-nuggets-vs-la-lakers-2026-04-27
LOCATION:https://endorso.com/vpn/watch/nba-playoffs-denver-nuggets-vs-la-lakers-2026-04-27
END:VEVENT
END:VCALENDAR