BEGIN:VCALENDAR
VERSION:2.0
PRODID:-//Endorso//Watch Free Events//EN
CALSCALE:GREGORIAN
METHOD:PUBLISH
BEGIN:VEVENT
UID:nba-playoffs-conference-semifinals-game-1-2026-05-04@endorso.com
DTSTAMP:20260422T104447Z
DTSTART:20260504T230000Z
DTEND:20260505T010000Z
SUMMARY:NBA Playoffs — Conference Semifinals Game 1 (Watch Free with VPN)
DESCRIPTION:The second round of the NBA Playoffs tips off. The remaining eight teams begin their quest for a spot in the Conference Finals.\\n\\nFree on TRT Spor (Turkey).\\n\\nFull guide: https://endorso.com/vpn/watch/nba-playoffs-conference-semifinals-game-1-2026-05-04
URL:https://endorso.com/vpn/watch/nba-playoffs-conference-semifinals-game-1-2026-05-04
LOCATION:https://endorso.com/vpn/watch/nba-playoffs-conference-semifinals-game-1-2026-05-04
END:VEVENT
END:VCALENDAR