BEGIN:VCALENDAR
VERSION:2.0
PRODID:-//Endorso//Watch Free Events//EN
CALSCALE:GREGORIAN
METHOD:PUBLISH
BEGIN:VEVENT
UID:nba-playoffs-conference-semifinals-g1-2026-05-05@endorso.com
DTSTAMP:20260422T164611Z
DTSTART:20260505T010000Z
DTEND:20260505T030000Z
SUMMARY:NBA Playoffs: Conference Semifinals Game 1 — TBD vs TBD (Watch Free with VPN)
DESCRIPTION:The second round of the NBA playoffs begins. The remaining eight teams fight for a spot in the Conference Finals.\\n\\nFree on TRT Spor (Turkey).\\n\\nFull guide: https://endorso.com/vpn/watch/nba-playoffs-conference-semifinals-g1-2026-05-05
URL:https://endorso.com/vpn/watch/nba-playoffs-conference-semifinals-g1-2026-05-05
LOCATION:https://endorso.com/vpn/watch/nba-playoffs-conference-semifinals-g1-2026-05-05
END:VEVENT
END:VCALENDAR