BEGIN:VCALENDAR
VERSION:2.0
PRODID:-//Endorso//Watch Free Events//EN
CALSCALE:GREGORIAN
METHOD:PUBLISH
BEGIN:VEVENT
UID:nba-playoffs-boston-celtics-vs-miami-heat-game-3-2026-04-25@endorso.com
DTSTAMP:20260422T045448Z
DTSTART:20260425T233000Z
DTEND:20260426T013000Z
SUMMARY:Boston Celtics vs Miami Heat — NBA Playoffs R1 G3 (Watch Free with VPN)
DESCRIPTION:The top-seeded Celtics travel to Miami for a pivotal Game 3 in the Eastern Conference First Round. Expect high intensity as the Heat look to defend home court against the championship favorites.\\n\\nFree on Pluto TV (NBA Channel Highlights) (USA).\\n\\nFull guide: https://endorso.com/vpn/watch/nba-playoffs-boston-celtics-vs-miami-heat-game-3-2026-04-25
URL:https://endorso.com/vpn/watch/nba-playoffs-boston-celtics-vs-miami-heat-game-3-2026-04-25
LOCATION:https://endorso.com/vpn/watch/nba-playoffs-boston-celtics-vs-miami-heat-game-3-2026-04-25
END:VEVENT
END:VCALENDAR