BEGIN:VCALENDAR
VERSION:2.0
PRODID:-//Endorso//Watch Free Events//EN
CALSCALE:GREGORIAN
METHOD:PUBLISH
BEGIN:VEVENT
UID:nba-playoffs-2026-okc-thunder-vs-dallas-mavericks-g5@endorso.com
DTSTAMP:20260425T024644Z
DTSTART:20260430T010000Z
DTEND:20260430T030000Z
SUMMARY:OKC Thunder vs Dallas Mavericks — NBA Playoffs R1 G5 (Watch Free with VPN)
DESCRIPTION:Shai Gilgeous-Alexander and Luka Doncic face off in a high-scoring Western Conference battle. Game 5 is often the turning point of the series.\\n\\nFree on TRT Spor (Turkey).\\n\\nFull guide: https://endorso.com/vpn/watch/nba-playoffs-2026-okc-thunder-vs-dallas-mavericks-g5
URL:https://endorso.com/vpn/watch/nba-playoffs-2026-okc-thunder-vs-dallas-mavericks-g5
LOCATION:https://endorso.com/vpn/watch/nba-playoffs-2026-okc-thunder-vs-dallas-mavericks-g5
END:VEVENT
END:VCALENDAR