BEGIN:VCALENDAR
VERSION:2.0
PRODID:-//Endorso//Watch Free Events//EN
CALSCALE:GREGORIAN
METHOD:PUBLISH
BEGIN:VEVENT
UID:nba-playoffs-2026-milwaukee-bucks-vs-indiana-pacers-game-6@endorso.com
DTSTAMP:20260424T191113Z
DTSTART:20260503T220000Z
DTEND:20260504T000000Z
SUMMARY:Milwaukee Bucks vs Indiana Pacers — NBA Playoffs R1 G6 (Watch Free with VPN)
DESCRIPTION:Giannis Antetokounmpo and the Bucks face a hostile crowd in Indiana. The Pacers aim to pull off an upset in this physical first-round series.\\n\\nFree on Globoplay (Brazil).\\n\\nFull guide: https://endorso.com/vpn/watch/nba-playoffs-2026-milwaukee-bucks-vs-indiana-pacers-game-6
URL:https://endorso.com/vpn/watch/nba-playoffs-2026-milwaukee-bucks-vs-indiana-pacers-game-6
LOCATION:https://endorso.com/vpn/watch/nba-playoffs-2026-milwaukee-bucks-vs-indiana-pacers-game-6
END:VEVENT
END:VCALENDAR