BEGIN:VCALENDAR
VERSION:2.0
PRODID:-//Endorso//Watch Free Events//EN
CALSCALE:GREGORIAN
METHOD:PUBLISH
BEGIN:VEVENT
UID:nba-playoffs-2026-milwaukee-bucks-vs-indiana-pacers-g6@endorso.com
DTSTAMP:20260425T024809Z
DTSTART:20260502T230000Z
DTEND:20260503T010000Z
SUMMARY:Milwaukee Bucks vs Indiana Pacers — NBA Playoffs R1 G6 (Watch Free with VPN)
DESCRIPTION:Giannis Antetokounmpo leads the Bucks into a hostile Indiana environment. This could be an elimination game for either side.\\n\\nFree on Globoplay (Brazil).\\n\\nFull guide: https://endorso.com/vpn/watch/nba-playoffs-2026-milwaukee-bucks-vs-indiana-pacers-g6
URL:https://endorso.com/vpn/watch/nba-playoffs-2026-milwaukee-bucks-vs-indiana-pacers-g6
LOCATION:https://endorso.com/vpn/watch/nba-playoffs-2026-milwaukee-bucks-vs-indiana-pacers-g6
END:VEVENT
END:VCALENDAR