BEGIN:VCALENDAR
VERSION:2.0
PRODID:-//Endorso//Watch Free Events//EN
CALSCALE:GREGORIAN
METHOD:PUBLISH
BEGIN:VEVENT
UID:nba-playoffs-2026-denver-nuggets-vs-la-lakers-game-4@endorso.com
DTSTAMP:20260424T191143Z
DTSTART:20260426T203000Z
DTEND:20260426T223000Z
SUMMARY:Denver Nuggets vs LA Lakers — NBA Playoffs R1 G4 (Watch Free with VPN)
DESCRIPTION:Nikola Jokic leads the Nuggets into Los Angeles for a pivotal Game 4. The Lakers look to LeBron James to defend home court in this high-profile Western Conference rematch.\\n\\nFree on Azteca Deportes (Mexico).\\n\\nFull guide: https://endorso.com/vpn/watch/nba-playoffs-2026-denver-nuggets-vs-la-lakers-game-4
URL:https://endorso.com/vpn/watch/nba-playoffs-2026-denver-nuggets-vs-la-lakers-game-4
LOCATION:https://endorso.com/vpn/watch/nba-playoffs-2026-denver-nuggets-vs-la-lakers-game-4
END:VEVENT
END:VCALENDAR