BEGIN:VCALENDAR
VERSION:2.0
PRODID:-//Endorso//Watch Free Events//EN
CALSCALE:GREGORIAN
METHOD:PUBLISH
BEGIN:VEVENT
UID:motogp-spanish-grand-prix-sprint-2026-05-02@endorso.com
DTSTAMP:20260421T192917Z
DTSTART:20260502T130000Z
DTEND:20260502T150000Z
SUMMARY:MotoGP Spanish Grand Prix — Sprint Race (Watch Free with VPN)
DESCRIPTION:Half-distance\, full-throttle action at Jerez. The Sprint race offers crucial championship points and a preview of Sunday's pace.\\n\\nFree on ServusTV (Austria).\\n\\nFull guide: https://endorso.com/vpn/watch/motogp-spanish-grand-prix-sprint-2026-05-02
URL:https://endorso.com/vpn/watch/motogp-spanish-grand-prix-sprint-2026-05-02
LOCATION:https://endorso.com/vpn/watch/motogp-spanish-grand-prix-sprint-2026-05-02
END:VEVENT
END:VCALENDAR