BEGIN:VCALENDAR
VERSION:2.0
PRODID:-//Endorso//Watch Free Events//EN
CALSCALE:GREGORIAN
METHOD:PUBLISH
BEGIN:VEVENT
UID:motogp-spanish-grand-prix-race-2026-05-03@endorso.com
DTSTAMP:20260419T195637Z
DTSTART:20260503T120000Z
DTEND:20260503T140000Z
SUMMARY:MotoGP Spanish Grand Prix - Race (Watch Free with VPN)
DESCRIPTION:The main event of the Spanish Grand Prix weekend. Riders will be competing for the race win. Watch live to see who will take the checkered flag.\\n\\nFree on ServusTV (Austria).\\n\\nFull guide: https://endorso.com/vpn/watch/motogp-spanish-grand-prix-race-2026-05-03
URL:https://endorso.com/vpn/watch/motogp-spanish-grand-prix-race-2026-05-03
LOCATION:https://endorso.com/vpn/watch/motogp-spanish-grand-prix-race-2026-05-03
END:VEVENT
END:VCALENDAR