BEGIN:VCALENDAR
VERSION:2.0
PRODID:-//Endorso//Watch Free Events//EN
CALSCALE:GREGORIAN
METHOD:PUBLISH
BEGIN:VEVENT
UID:motogp-spanish-grand-prix-qualifying-2026-05-02@endorso.com
DTSTAMP:20260419T195459Z
DTSTART:20260502T130000Z
DTEND:20260502T150000Z
SUMMARY:MotoGP Spanish Grand Prix - Qualifying (Watch Free with VPN)
DESCRIPTION:Qualifying session for the Spanish Grand Prix. Riders will be competing for the best starting position on the grid. Watch live to see who will start on pole.\\n\\nFree on ServusTV (Austria).\\n\\nFull guide: https://endorso.com/vpn/watch/motogp-spanish-grand-prix-qualifying-2026-05-02
URL:https://endorso.com/vpn/watch/motogp-spanish-grand-prix-qualifying-2026-05-02
LOCATION:https://endorso.com/vpn/watch/motogp-spanish-grand-prix-qualifying-2026-05-02
END:VEVENT
END:VCALENDAR