BEGIN:VCALENDAR
VERSION:2.0
PRODID:-//Endorso//Watch Free Events//EN
CALSCALE:GREGORIAN
METHOD:PUBLISH
BEGIN:VEVENT
UID:motogp-spanish-grand-prix-practice-3-2026-05-02@endorso.com
DTSTAMP:20260419T195515Z
DTSTART:20260502T084500Z
DTEND:20260502T104500Z
SUMMARY:MotoGP Spanish Grand Prix - Practice 3 (Watch Free with VPN)
DESCRIPTION:Third practice session of the Spanish Grand Prix weekend. Riders will be making final adjustments to their bikes before qualifying. Watch live to see the bikes' ultimate performance.\\n\\nFree on ServusTV (Austria).\\n\\nFull guide: https://endorso.com/vpn/watch/motogp-spanish-grand-prix-practice-3-2026-05-02
URL:https://endorso.com/vpn/watch/motogp-spanish-grand-prix-practice-3-2026-05-02
LOCATION:https://endorso.com/vpn/watch/motogp-spanish-grand-prix-practice-3-2026-05-02
END:VEVENT
END:VCALENDAR