BEGIN:VCALENDAR
VERSION:2.0
PRODID:-//Endorso//Watch Free Events//EN
CALSCALE:GREGORIAN
METHOD:PUBLISH
BEGIN:VEVENT
UID:mls-key-game-la-galaxy-vs-lafc-2026-05-02@endorso.com
DTSTAMP:20260419T140215Z
DTSTART:20260502T020000Z
DTEND:20260502T040000Z
SUMMARY:LA Galaxy vs LAFC — MLS Key Game (Watch Free with VPN)
DESCRIPTION:MLS key game between LA Galaxy and LAFC. The El Tráfico derby is always a highly anticipated match\, with both teams vying for dominance in Los Angeles.\\n\\nFree on Facebook Watch (USA).\\n\\nFull guide: https://endorso.com/vpn/watch/mls-key-game-la-galaxy-vs-lafc-2026-05-02
URL:https://endorso.com/vpn/watch/mls-key-game-la-galaxy-vs-lafc-2026-05-02
LOCATION:https://endorso.com/vpn/watch/mls-key-game-la-galaxy-vs-lafc-2026-05-02
END:VEVENT
END:VCALENDAR