BEGIN:VCALENDAR
VERSION:2.0
PRODID:-//Endorso//Watch Free Events//EN
CALSCALE:GREGORIAN
METHOD:PUBLISH
BEGIN:VEVENT
UID:mls-key-game-la-galaxy-vs-lafc-2026-04-26@endorso.com
DTSTAMP:20260419T171234Z
DTSTART:20260426T230000Z
DTEND:20260427T010000Z
SUMMARY:LA Galaxy vs LAFC — MLS Key Game (Watch Free with VPN)
DESCRIPTION:An MLS key game between LA Galaxy and LAFC\, the 'El Tráfico' derby. This rivalry is one of the most exciting in MLS\, with both teams vying for dominance in Los Angeles. Expect a high-intensity match with plenty of goals.\\n\\nFree on Facebook Watch (USA).\\n\\nFull guide: https://endorso.com/vpn/watch/mls-key-game-la-galaxy-vs-lafc-2026-04-26
URL:https://endorso.com/vpn/watch/mls-key-game-la-galaxy-vs-lafc-2026-04-26
LOCATION:https://endorso.com/vpn/watch/mls-key-game-la-galaxy-vs-lafc-2026-04-26
END:VEVENT
END:VCALENDAR