BEGIN:VCALENDAR
VERSION:2.0
PRODID:-//Endorso//Watch Free Events//EN
CALSCALE:GREGORIAN
METHOD:PUBLISH
BEGIN:VEVENT
UID:mls-inter-miami-vs-new-york-red-bulls-2026-05-09@endorso.com
DTSTAMP:20260425T105108Z
DTSTART:20260509T233000Z
DTEND:20260510T013000Z
SUMMARY:Inter Miami vs New York Red Bulls — MLS (Watch Free with VPN)
DESCRIPTION:Lionel Messi leads Inter Miami against the high-pressing Red Bulls. Miami seeks to maintain their lead at the top of the Eastern Conference.\\n\\nFree on Apple TV (Free Match of the Week) (Global).\\n\\nFull guide: https://endorso.com/vpn/watch/mls-inter-miami-vs-new-york-red-bulls-2026-05-09
URL:https://endorso.com/vpn/watch/mls-inter-miami-vs-new-york-red-bulls-2026-05-09
LOCATION:https://endorso.com/vpn/watch/mls-inter-miami-vs-new-york-red-bulls-2026-05-09
END:VEVENT
END:VCALENDAR