BEGIN:VCALENDAR
VERSION:2.0
PRODID:-//Endorso//Watch Free Events//EN
CALSCALE:GREGORIAN
METHOD:PUBLISH
BEGIN:VEVENT
UID:mls-inter-miami-vs-new-york-red-bulls-2026-05-04@endorso.com
DTSTAMP:20260425T204228Z
DTSTART:20260504T233000Z
DTEND:20260505T013000Z
SUMMARY:Inter Miami vs New York Red Bulls — MLS (Watch Free with VPN)
DESCRIPTION:Lionel Messi and Inter Miami host the Red Bulls at Chase Stadium. Miami looks to maintain their lead in the Supporters' Shield race.\\n\\nFree on Apple TV (Free Match) (Global).\\n\\nFull guide: https://endorso.com/vpn/watch/mls-inter-miami-vs-new-york-red-bulls-2026-05-04
URL:https://endorso.com/vpn/watch/mls-inter-miami-vs-new-york-red-bulls-2026-05-04
LOCATION:https://endorso.com/vpn/watch/mls-inter-miami-vs-new-york-red-bulls-2026-05-04
END:VEVENT
END:VCALENDAR