BEGIN:VCALENDAR
VERSION:2.0
PRODID:-//Endorso//Watch Free Events//EN
CALSCALE:GREGORIAN
METHOD:PUBLISH
BEGIN:VEVENT
UID:mls-inter-miami-vs-la-galaxy-2026-05-03@endorso.com
DTSTAMP:20260425T160119Z
DTSTART:20260503T233000Z
DTEND:20260504T013000Z
SUMMARY:Inter Miami vs LA Galaxy — MLS (Watch Free with VPN)
DESCRIPTION:The 'Beckham Derby' features Lionel Messi's Miami against the historic powerhouse Galaxy. A showcase of the league's star power.\\n\\nFree on Apple TV (Free Match) (Global).\\n\\nFull guide: https://endorso.com/vpn/watch/mls-inter-miami-vs-la-galaxy-2026-05-03
URL:https://endorso.com/vpn/watch/mls-inter-miami-vs-la-galaxy-2026-05-03
LOCATION:https://endorso.com/vpn/watch/mls-inter-miami-vs-la-galaxy-2026-05-03
END:VEVENT
END:VCALENDAR