BEGIN:VCALENDAR
VERSION:2.0
PRODID:-//Endorso//Watch Free Events//EN
CALSCALE:GREGORIAN
METHOD:PUBLISH
BEGIN:VEVENT
UID:mls-inter-miami-vs-la-galaxy-2026-05-02@endorso.com
DTSTAMP:20260421T193450Z
DTSTART:20260502T233000Z
DTEND:20260503T013000Z
SUMMARY:Inter Miami vs LA Galaxy — MLS Key Game (Watch Free with VPN)
DESCRIPTION:A star-studded matchup in Miami as the Herons face the historic LA Galaxy. Fans are tuning in to see if Miami's veterans can overcome the Galaxy's youth.\\n\\nFree on Apple TV (Free Match of the Week) (USA).\\n\\nFull guide: https://endorso.com/vpn/watch/mls-inter-miami-vs-la-galaxy-2026-05-02
URL:https://endorso.com/vpn/watch/mls-inter-miami-vs-la-galaxy-2026-05-02
LOCATION:https://endorso.com/vpn/watch/mls-inter-miami-vs-la-galaxy-2026-05-02
END:VEVENT
END:VCALENDAR