BEGIN:VCALENDAR
VERSION:2.0
PRODID:-//Endorso//Watch Free Events//EN
CALSCALE:GREGORIAN
METHOD:PUBLISH
BEGIN:VEVENT
UID:mls-inter-miami-vs-la-galaxy-2026-04-29@endorso.com
DTSTAMP:20260422T044839Z
DTSTART:20260430T013000Z
DTEND:20260430T033000Z
SUMMARY:Inter Miami vs LA Galaxy — MLS (Watch Free with VPN)
DESCRIPTION:Lionel Messi and Inter Miami face the historic LA Galaxy. A marquee matchup featuring the league's biggest stars at Chase Stadium.\\n\\nFree on Apple TV (Free Match) (USA).\\n\\nFull guide: https://endorso.com/vpn/watch/mls-inter-miami-vs-la-galaxy-2026-04-29
URL:https://endorso.com/vpn/watch/mls-inter-miami-vs-la-galaxy-2026-04-29
LOCATION:https://endorso.com/vpn/watch/mls-inter-miami-vs-la-galaxy-2026-04-29
END:VEVENT
END:VCALENDAR