BEGIN:VCALENDAR
VERSION:2.0
PRODID:-//Endorso//Watch Free Events//EN
CALSCALE:GREGORIAN
METHOD:PUBLISH
BEGIN:VEVENT
UID:matchroom-boxing-smith-vs-williams-2026-05-03@endorso.com
DTSTAMP:20260424T191241Z
DTSTART:20260503T190000Z
DTEND:20260503T210000Z
SUMMARY:Matchroom Boxing: Smith vs. Williams (Watch Free with VPN)
DESCRIPTION:A major domestic clash in the light-heavyweight division. Two top contenders face off for a shot at the world title.\\n\\nFree on YouTube (UK).\\n\\nFull guide: https://endorso.com/vpn/watch/matchroom-boxing-smith-vs-williams-2026-05-03
URL:https://endorso.com/vpn/watch/matchroom-boxing-smith-vs-williams-2026-05-03
LOCATION:https://endorso.com/vpn/watch/matchroom-boxing-smith-vs-williams-2026-05-03
END:VEVENT
END:VCALENDAR