BEGIN:VCALENDAR
VERSION:2.0
PRODID:-//Endorso//Watch Free Events//EN
CALSCALE:GREGORIAN
METHOD:PUBLISH
BEGIN:VEVENT
UID:matchroom-boxing-main-event-2026-05-09@endorso.com
DTSTAMP:20260425T155809Z
DTSTART:20260509T200000Z
DTEND:20260509T220000Z
SUMMARY:Matchroom Boxing: Edwards vs. Rodriguez (Watch Free with VPN)
DESCRIPTION:A major flyweight unification bout. Two of the world's best technical boxers face off for divisional supremacy.\\n\\nFree on DAZN Free (Global).\\n\\nFull guide: https://endorso.com/vpn/watch/matchroom-boxing-main-event-2026-05-09
URL:https://endorso.com/vpn/watch/matchroom-boxing-main-event-2026-05-09
LOCATION:https://endorso.com/vpn/watch/matchroom-boxing-main-event-2026-05-09
END:VEVENT
END:VCALENDAR