BEGIN:VCALENDAR
VERSION:2.0
PRODID:-//Endorso//Watch Free Events//EN
CALSCALE:GREGORIAN
METHOD:PUBLISH
BEGIN:VEVENT
UID:matchroom-boxing-edwards-vs-yafai-2026-04-25@endorso.com
DTSTAMP:20260422T044953Z
DTSTART:20260425T190000Z
DTEND:20260425T210000Z
SUMMARY:Sunny Edwards vs Galal Yafai — Matchroom Boxing (Watch Free with VPN)
DESCRIPTION:An all-British flyweight blockbuster for world title contention. High-speed technical boxing at its finest.\\n\\nFree on BBC Sport (UK).\\n\\nFull guide: https://endorso.com/vpn/watch/matchroom-boxing-edwards-vs-yafai-2026-04-25
URL:https://endorso.com/vpn/watch/matchroom-boxing-edwards-vs-yafai-2026-04-25
LOCATION:https://endorso.com/vpn/watch/matchroom-boxing-edwards-vs-yafai-2026-04-25
END:VEVENT
END:VCALENDAR