BEGIN:VCALENDAR
VERSION:2.0
PRODID:-//Endorso//Watch Free Events//EN
CALSCALE:GREGORIAN
METHOD:PUBLISH
BEGIN:VEVENT
UID:matchroom-boxing-card-2026-04-27@endorso.com
DTSTAMP:20260420T111514Z
DTSTART:20260427T020000Z
DTEND:20260427T040000Z
SUMMARY:Matchroom Boxing Card (Watch Free with VPN)
DESCRIPTION:A Matchroom Boxing event featuring several high-profile fights. Expect exciting matchups and potential title implications. Watch live to see the future of boxing.\\n\\nFree on DAZN (Worldwide).\\n\\nFull guide: https://endorso.com/vpn/watch/matchroom-boxing-card-2026-04-27
URL:https://endorso.com/vpn/watch/matchroom-boxing-card-2026-04-27
LOCATION:https://endorso.com/vpn/watch/matchroom-boxing-card-2026-04-27
END:VEVENT
END:VCALENDAR