BEGIN:VCALENDAR
VERSION:2.0
PRODID:-//Endorso//Watch Free Events//EN
CALSCALE:GREGORIAN
METHOD:PUBLISH
BEGIN:VEVENT
UID:matchroom-boxing-canelo-vs-berlanga-2026-05-09@endorso.com
DTSTAMP:20260425T145240Z
DTSTART:20260510T030000Z
DTEND:20260510T050000Z
SUMMARY:Canelo Alvarez vs. Edgar Berlanga — World Super Middleweight Title (Watch Free with VPN)
DESCRIPTION:The face of boxing returns for his traditional Cinco de Mayo weekend clash. Canelo defends his undisputed status against the heavy-hitting Berlanga.\\n\\nFree on Azteca 7 (Mexico).\\n\\nFull guide: https://endorso.com/vpn/watch/matchroom-boxing-canelo-vs-berlanga-2026-05-09
URL:https://endorso.com/vpn/watch/matchroom-boxing-canelo-vs-berlanga-2026-05-09
LOCATION:https://endorso.com/vpn/watch/matchroom-boxing-canelo-vs-berlanga-2026-05-09
END:VEVENT
END:VCALENDAR