BEGIN:VCALENDAR
VERSION:2.0
PRODID:-//Endorso//Watch Free Events//EN
CALSCALE:GREGORIAN
METHOD:PUBLISH
BEGIN:VEVENT
UID:matchroom-boxing-canelo-vs-berlanga-2026-05-02@endorso.com
DTSTAMP:20260425T024537Z
DTSTART:20260503T030000Z
DTEND:20260503T050000Z
SUMMARY:Canelo Alvarez vs. Edgar Berlanga — World Title Fight (Watch Free with VPN)
DESCRIPTION:Cinco de Mayo weekend blockbuster. Canelo defends his super-middleweight crowns against the heavy-hitting Berlanga.\\n\\nFree on Azteca 7 (Mexico).\\n\\nFull guide: https://endorso.com/vpn/watch/matchroom-boxing-canelo-vs-berlanga-2026-05-02
URL:https://endorso.com/vpn/watch/matchroom-boxing-canelo-vs-berlanga-2026-05-02
LOCATION:https://endorso.com/vpn/watch/matchroom-boxing-canelo-vs-berlanga-2026-05-02
END:VEVENT
END:VCALENDAR