BEGIN:VCALENDAR
VERSION:2.0
PRODID:-//Endorso//Watch Free Events//EN
CALSCALE:GREGORIAN
METHOD:PUBLISH
BEGIN:VEVENT
UID:ligue-1-psg-vs-olympique-lyonnais-2026-04-19@endorso.com
DTSTAMP:20260419T140543Z
DTSTART:20260419T190000Z
DTEND:20260419T210000Z
SUMMARY:PSG vs Olympique Lyonnais — Ligue 1 (Watch Free with VPN)
DESCRIPTION:PSG takes on Olympique Lyonnais in a top-of-the-table Ligue 1 encounter. This match is crucial for both teams' title aspirations. Expect a thrilling contest with plenty of attacking talent on display.\\n\\nFree on France TV (France).\\n\\nFull guide: https://endorso.com/vpn/watch/ligue-1-psg-vs-olympique-lyonnais-2026-04-19
URL:https://endorso.com/vpn/watch/ligue-1-psg-vs-olympique-lyonnais-2026-04-19
LOCATION:https://endorso.com/vpn/watch/ligue-1-psg-vs-olympique-lyonnais-2026-04-19
END:VEVENT
END:VCALENDAR